BEGIN:VCALENDAR
VERSION:2.0
PRODID:icalendar-ruby
CALSCALE:GREGORIAN
METHOD:PUBLISH
BEGIN:VEVENT
DTSTAMP:20260422T180551Z
UID:8-524151@unitedmethodist282.tithelysetup5.com
DTSTART:20260911T140000Z
DTEND:20260911T153000Z
CLASS:PUBLIC
CREATED:20260422T113018
DESCRIPTION:
LAST-MODIFIED:20260422T113018
LOCATION:Old Town United Methodist Church
SUMMARY:Friday Griefshare
URL;VALUE=URI:https://umcoldtown.org/events/friday-griefshare/2026-09-11
ATTACH;FILENAME=Memorial-lilacs.jpg;FMTTYPE=image/jpeg:https://dq5pwpg1q8ru
 0.cloudfront.net/2025/04/06/18/08/57/6f3ec09b-b181-48ae-bcba-e9890b460264/
 Memorial-lilacs.jpg
END:VEVENT
END:VCALENDAR
